BEGIN:VCALENDAR
VERSION:2.0
PRODID:-//Queensland Cruising Yacht Club - ECPv6.15.20//NONSGML v1.0//EN
CALSCALE:GREGORIAN
METHOD:PUBLISH
X-WR-CALNAME:Queensland Cruising Yacht Club
X-ORIGINAL-URL:https://www.qcyc.com.au
X-WR-CALDESC:Events for Queensland Cruising Yacht Club
REFRESH-INTERVAL;VALUE=DURATION:PT1H
X-Robots-Tag:noindex
X-PUBLISHED-TTL:PT1H
BEGIN:VTIMEZONE
TZID:Australia/Brisbane
BEGIN:STANDARD
TZOFFSETFROM:+1000
TZOFFSETTO:+1000
TZNAME:AEST
DTSTART:20250101T000000
END:STANDARD
END:VTIMEZONE
BEGIN:VEVENT
DTSTART;TZID=Australia/Brisbane:20260801T180000
DTEND;TZID=Australia/Brisbane:20260801T220000
DTSTAMP:20260420T133918
CREATED:20260122T030236Z
LAST-MODIFIED:20260306T005809Z
UID:3944-1785607200-1785621600@www.qcyc.com.au
SUMMARY:QCYC Summer & Winer Series Presentation Dinner
DESCRIPTION:Details to follow.
URL:https://www.qcyc.com.au/events/qcyc-summer-winer-series-presentation-dinner/
LOCATION:QCYC Club House
CATEGORIES:QCYC Summer Racing Series,QCYC Winter Racing Series
END:VEVENT
END:VCALENDAR